BEGIN:VCALENDAR
VERSION:2.0
PRODID:-//Erbil Polytechnic University - ECPv4.9.10//NONSGML v1.0//EN
CALSCALE:GREGORIAN
METHOD:PUBLISH
X-WR-CALNAME:Erbil Polytechnic University
X-ORIGINAL-URL:https://epu.edu.iq
X-WR-CALDESC:Events for Erbil Polytechnic University
BEGIN:VTIMEZONE
TZID:UTC
BEGIN:STANDARD
TZOFFSETFROM:+0000
TZOFFSETTO:+0000
TZNAME:UTC
DTSTART:20190101T000000
END:STANDARD
END:VTIMEZONE
BEGIN:VEVENT
DTSTART;TZID=UTC:20190423T090000
DTEND;TZID=UTC:20190424T163000
DTSTAMP:20191120T042526
CREATED:20190422T164921Z
LAST-MODIFIED:20190112T190335Z
UID:594-1556010000-1556123400@epu.edu.iq
SUMMARY:IEC Conference
DESCRIPTION:\n\n\nIEC2019 (IEEE) \n5th International Engineering Conference on Developments in Engineering Applications \n\n\n\n\nErbil\, KRG\, Iraq\, April 23-24\, 2019 \nInvitation \n\n\n\n\nDear Sir/Madam\, \n\n\n\n\nPlease feel free to forward this call to your colleagues\, networks and contacts who might be interested. \nWe hereby cordially invite you to the 5th annual International Engineering Conference on Developments in Engineering Applications (IEC2019_ IEEE) which will be held in Erbil on April 23-24\, 2019. \nThe International Engineering Conference on Developments in Engineering Applications (IEC2019_IEEE) is the interdisciplinary forum for the presentation of new advances and research results in the fields of Engineering Applications. The conference will bring together leading academic scientists\, researchers and scholars in the domain of interest from around the world. \nIt addresses mainly to academicians\, researchers and to other specialists in adjacent fields of research that focus their attention on the following topics but not limited to: \nSome Relevant Topics \n\nStructural Materials\nStructural Engineering\nEarthquake Engineering\nGeo-technical Engineering\nEnvironmental Engineering\nFluid & Hydraulic Engineering\nMechanical & Energy\nGreen Buildings\nSmart Buildings\nTransportation Engineering\nRestoration and Rehabilitation of Historical Buildings\nConstruction Management\nSustainability of Concrete and Steel Structures\nComposite Materials\nSurveying and Geomatics Engineering\nPetroleum and Mining Engineering\nRenewable Energy\nArtificial & Computational Intelligence\n\n\n\n\n\n\n\n\nCommunications\, Networking & Protocols\nParallel & Distributed Processing\nSignal and Multimedia Processing\nBiomedical and Health Informatics\nMobile and Smartphone Applications\nSoftware Engineering and Applications\nCloud Computing\nComputer & Information Security\nSmart Houses\nGreen Computing for Sustainable Energy\nInformation Systems\nData Science & Big Data\nSignal Processing\nElectrical and Electronics Engineering\nRobotics\, Automation & Control Systems\nMechatronicsSubmission: Full paper must be submitted (Abstracts are not acceptable). Submitted paper should be in English and must not exceed 8 pages\, including illustrations\, references & appendices and without page numbering. Maximum number of additional pages is 4 (at extra cost – see registration). Papers should be submitted electronically in MS-Word or PDF format. The paper selection will follow a double-blind review process\, meaning that both the authors and reviewers will remain anonymous during the paper selection process. All papers will be fully refereed by a minimum of three specialized referees. Before final acceptance\, all referees’ comments must be considered. Accepted papers will be published in the conference proceedings.For each accepted paper at least one author must register for the paper with full fee. Presentation Certificate will be given to registered authors only as well as one copy of the proceedings book. Participation Certificate will be given to registered participants (without proceedings book). Each paper will be assigned a unique DOI number.\nThe authors of accepted papers must register and pay before the registration deadline (announced in the Dates/Program page). Please notice that only registered papers will be included in the conference proceedings (hardcopy). \nOnce your paper is accepted will you be notified to upload the Camera-Ready version of your paper. You will be required to sign our Copyrights Form and also the Registration Form. \nPublication: \nAccepted and presented papers will be published in the IEC2019 Conference Proceedings and the papers whose contents are justified with IEEE submitted to IEEE Xplore®. Full details of submission procedures and requirements for authors of accepted papers are available at www.ishik.edu.iq/conf/iec. \nAny accepted papers but not justified with IEEE content will be published in Eurasian Journal of Science and Engineering (EAJSE) (ISSN 2414-5629 (Print)\, ISSN 2414-5602 (Online)) in a special issue in 2019. The journal will not charge any publication fee. \nPublication fee: \nPaper submissions justified with IEEE 250$ Other papers 100$\n\n\n\n\n\n\n\nFor more details on free online registration\, abstract submission\, full papers\, power point presentation\, accommodation\, flight and venue\, please send email to this mails: mohamad.aldabagh@ishik.edu.iq or iec.info@ishik.edu.iq \n\n\n\n\nwww.ishik.edu.iq/conf/iec \nImportant Dates:\nSubmission Deadline (full paper) \nNotification of Acceptance\nCamera Ready Submission (FINAL) Last Day for Registration & Payment IEC2019 Conference Dates: \n\n\nMarch 01\, 2019 March 24\, 2019 March 31\, 2019 April 03\, 2019 23-24 April 2019 \n\n\n\n\nWe look forward to welcoming you at the IEC 2019 (IEEE) conference in Erbil. \nChair\, IEC2019 Dr. S Cankurt \n\n\n\nFollow us & Share
URL:https://epu.edu.iq/event/iec-conference/
END:VEVENT
END:VCALENDAR